BEGIN:VCALENDAR
VERSION:2.0
PRODID:-//Prince Edward Montessori School - ECPv6.15.1.1//NONSGML v1.0//EN
CALSCALE:GREGORIAN
METHOD:PUBLISH
X-WR-CALNAME:Prince Edward Montessori School
X-ORIGINAL-URL:https://princeedwardmontessori.com
X-WR-CALDESC:Events for Prince Edward Montessori School
REFRESH-INTERVAL;VALUE=DURATION:PT1H
X-Robots-Tag:noindex
X-PUBLISHED-TTL:PT1H
BEGIN:VTIMEZONE
TZID:America/Toronto
BEGIN:DAYLIGHT
TZOFFSETFROM:-0500
TZOFFSETTO:-0400
TZNAME:EDT
DTSTART:20170312T070000
END:DAYLIGHT
BEGIN:STANDARD
TZOFFSETFROM:-0400
TZOFFSETTO:-0500
TZNAME:EST
DTSTART:20171105T060000
END:STANDARD
END:VTIMEZONE
BEGIN:VEVENT
DTSTART;VALUE=DATE:20170622
DTEND;VALUE=DATE:20170623
DTSTAMP:20260423T142835
CREATED:20170210T154928Z
LAST-MODIFIED:20170210T154928Z
UID:386-1498089600-1498175999@princeedwardmontessori.com
SUMMARY:Miss. Campus - Graduation / Sing-Along / Pot Luck
DESCRIPTION:Last Day of School; School closes at 12:00
URL:https://princeedwardmontessori.com/event/miss-campus-graduation-sing-along-pot-luck/
CATEGORIES:Mississauga Campus
END:VEVENT
BEGIN:VEVENT
DTSTART;VALUE=DATE:20170615
DTEND;VALUE=DATE:20170616
DTSTAMP:20260423T142835
CREATED:20170209T162639Z
LAST-MODIFIED:20170210T154241Z
UID:339-1497484800-1497571199@princeedwardmontessori.com
SUMMARY:Toronto Campus - Last Day of School –SCHOOL PICNIC
DESCRIPTION:
URL:https://princeedwardmontessori.com/event/last-day-of-school-school-picnic/
CATEGORIES:Toronto Campus
END:VEVENT
BEGIN:VEVENT
DTSTART;TZID=America/Toronto:20170614T090000
DTEND;TZID=America/Toronto:20170614T100000
DTSTAMP:20260423T142835
CREATED:20170209T162609Z
LAST-MODIFIED:20170210T154223Z
UID:337-1497430800-1497434400@princeedwardmontessori.com
SUMMARY:Toronto Campus - Father’s Day Tea 9-10am
DESCRIPTION:
URL:https://princeedwardmontessori.com/event/fathers-day-tea-9-10am/
CATEGORIES:Toronto Campus
END:VEVENT
BEGIN:VEVENT
DTSTART;VALUE=DATE:20170526
DTEND;VALUE=DATE:20170527
DTSTAMP:20260423T142835
CREATED:20170210T154832Z
LAST-MODIFIED:20170210T154832Z
UID:384-1495756800-1495843199@princeedwardmontessori.com
SUMMARY:Miss. Campus - Report Cards Sent Home
DESCRIPTION:
URL:https://princeedwardmontessori.com/event/miss-campus-report-cards-sent-home/
CATEGORIES:Mississauga Campus
END:VEVENT
BEGIN:VEVENT
DTSTART;VALUE=DATE:20170526
DTEND;VALUE=DATE:20170527
DTSTAMP:20260423T142835
CREATED:20170210T154745Z
LAST-MODIFIED:20170210T154745Z
UID:382-1495756800-1495843199@princeedwardmontessori.com
SUMMARY:Miss. Campus - Casa Field Trip / Toddler Fun Day
DESCRIPTION:
URL:https://princeedwardmontessori.com/event/miss-campus-casa-field-trip-toddler-fun-day/
CATEGORIES:Mississauga Campus
END:VEVENT
BEGIN:VEVENT
DTSTART;VALUE=DATE:20170522
DTEND;VALUE=DATE:20170523
DTSTAMP:20260423T142835
CREATED:20170209T162536Z
LAST-MODIFIED:20170209T162536Z
UID:335-1495411200-1495497599@princeedwardmontessori.com
SUMMARY:Victoria Day – Closed
DESCRIPTION:
URL:https://princeedwardmontessori.com/event/victoria-day-closed/
END:VEVENT
BEGIN:VEVENT
DTSTART;TZID=America/Toronto:20170518T180000
DTEND;TZID=America/Toronto:20170518T190000
DTSTAMP:20260423T142835
CREATED:20170210T154636Z
LAST-MODIFIED:20170210T154636Z
UID:380-1495130400-1495134000@princeedwardmontessori.com
SUMMARY:Miss. Camp - Children's Night (Casa & Toddler)
DESCRIPTION:
URL:https://princeedwardmontessori.com/event/miss-camp-childrens-night-casa-toddler/
CATEGORIES:Mississauga Campus
END:VEVENT
BEGIN:VEVENT
DTSTART;TZID=America/Toronto:20170512T090000
DTEND;TZID=America/Toronto:20170512T100000
DTSTAMP:20260423T142835
CREATED:20170209T162511Z
LAST-MODIFIED:20170210T154156Z
UID:333-1494579600-1494583200@princeedwardmontessori.com
SUMMARY:Toronto Campus - Mother’s Day Tea 9-10am
DESCRIPTION:
URL:https://princeedwardmontessori.com/event/mothers-day-tea-9-10am/
CATEGORIES:Toronto Campus
END:VEVENT
BEGIN:VEVENT
DTSTART;TZID=America/Toronto:20170504T080000
DTEND;TZID=America/Toronto:20170505T170000
DTSTAMP:20260423T142835
CREATED:20170209T162435Z
LAST-MODIFIED:20170209T162436Z
UID:331-1493884800-1494003600@princeedwardmontessori.com
SUMMARY:PD Days – Closed
DESCRIPTION:
URL:https://princeedwardmontessori.com/event/pd-days-closed/
END:VEVENT
BEGIN:VEVENT
DTSTART;TZID=America/Toronto:20170501T080000
DTEND;TZID=America/Toronto:20170503T170000
DTSTAMP:20260423T142835
CREATED:20170209T162401Z
LAST-MODIFIED:20170209T162401Z
UID:329-1493625600-1493830800@princeedwardmontessori.com
SUMMARY:ART DAYS
DESCRIPTION:
URL:https://princeedwardmontessori.com/event/art-days/
END:VEVENT
BEGIN:VEVENT
DTSTART;VALUE=DATE:20170417
DTEND;VALUE=DATE:20170418
DTSTAMP:20260423T142835
CREATED:20170209T162322Z
LAST-MODIFIED:20170209T162322Z
UID:327-1492387200-1492473599@princeedwardmontessori.com
SUMMARY:Easter Monday – Closed
DESCRIPTION:
URL:https://princeedwardmontessori.com/event/easter-monday-closed/
END:VEVENT
BEGIN:VEVENT
DTSTART;VALUE=DATE:20170414
DTEND;VALUE=DATE:20170415
DTSTAMP:20260423T142835
CREATED:20170209T162258Z
LAST-MODIFIED:20170209T162258Z
UID:325-1492128000-1492214399@princeedwardmontessori.com
SUMMARY:Good Friday – Closed
DESCRIPTION:
URL:https://princeedwardmontessori.com/event/good-friday-closed/
END:VEVENT
BEGIN:VEVENT
DTSTART;VALUE=DATE:20170405
DTEND;VALUE=DATE:20170406
DTSTAMP:20260423T142835
CREATED:20170209T162226Z
LAST-MODIFIED:20170210T154056Z
UID:323-1491350400-1491436799@princeedwardmontessori.com
SUMMARY:Toronto Campus - Picture Day
DESCRIPTION:
URL:https://princeedwardmontessori.com/event/picture-day/
CATEGORIES:Toronto Campus
END:VEVENT
BEGIN:VEVENT
DTSTART;TZID=America/Toronto:20170320T080000
DTEND;TZID=America/Toronto:20170324T170000
DTSTAMP:20260423T142835
CREATED:20170210T154526Z
LAST-MODIFIED:20170210T154526Z
UID:378-1489996800-1490374800@princeedwardmontessori.com
SUMMARY:Miss. Campus - March Camp
DESCRIPTION:
URL:https://princeedwardmontessori.com/event/miss-campus-march-camp/
CATEGORIES:Mississauga Campus
END:VEVENT
BEGIN:VEVENT
DTSTART;TZID=America/Toronto:20170313T080000
DTEND;TZID=America/Toronto:20170324T170000
DTSTAMP:20260423T142835
CREATED:20170209T162156Z
LAST-MODIFIED:20170209T162156Z
UID:321-1489392000-1490374800@princeedwardmontessori.com
SUMMARY:MARCH BREAK
DESCRIPTION:
URL:https://princeedwardmontessori.com/event/march-break/
END:VEVENT
BEGIN:VEVENT
DTSTART;TZID=America/Toronto:20170223T180000
DTEND;TZID=America/Toronto:20170223T190000
DTSTAMP:20260423T142835
CREATED:20170210T154434Z
LAST-MODIFIED:20170210T154434Z
UID:376-1487872800-1487876400@princeedwardmontessori.com
SUMMARY:Miss. Campus - Parent Workshop
DESCRIPTION:Mandatory; Childcare will be provided
URL:https://princeedwardmontessori.com/event/miss-campus-parent-workshop/
CATEGORIES:Mississauga Campus
END:VEVENT
BEGIN:VEVENT
DTSTART;TZID=America/Toronto:20170223T173000
DTEND;TZID=America/Toronto:20170223T183000
DTSTAMP:20260423T142835
CREATED:20170209T162103Z
LAST-MODIFIED:20170210T153953Z
UID:319-1487871000-1487874600@princeedwardmontessori.com
SUMMARY:Toronto Campus - Parent Work Evening
DESCRIPTION:
URL:https://princeedwardmontessori.com/event/parent-work-evening-530-630pm/
CATEGORIES:Toronto Campus
END:VEVENT
BEGIN:VEVENT
DTSTART;VALUE=DATE:20170220
DTEND;VALUE=DATE:20170221
DTSTAMP:20260423T142835
CREATED:20170209T162026Z
LAST-MODIFIED:20170209T162026Z
UID:317-1487548800-1487635199@princeedwardmontessori.com
SUMMARY:Family Day - Closed
DESCRIPTION:
URL:https://princeedwardmontessori.com/event/family-day-closed/
END:VEVENT
BEGIN:VEVENT
DTSTART;VALUE=DATE:20170217
DTEND;VALUE=DATE:20170218
DTSTAMP:20260423T142835
CREATED:20170209T162005Z
LAST-MODIFIED:20170209T162005Z
UID:315-1487289600-1487375999@princeedwardmontessori.com
SUMMARY:PD Day – Closed
DESCRIPTION:
URL:https://princeedwardmontessori.com/event/pd-day-closed/
END:VEVENT
END:VCALENDAR